BEGIN:VCALENDAR
VERSION:2.0
PRODID:-//WDB Solano - ECPv6.4.0.1//NONSGML v1.0//EN
CALSCALE:GREGORIAN
METHOD:PUBLISH
X-ORIGINAL-URL:https://solanoemployment.org
X-WR-CALDESC:Events for WDB Solano
REFRESH-INTERVAL;VALUE=DURATION:PT1H
X-Robots-Tag:noindex
X-PUBLISHED-TTL:PT1H
BEGIN:VTIMEZONE
TZID:America/Los_Angeles
BEGIN:DAYLIGHT
TZOFFSETFROM:-0800
TZOFFSETTO:-0700
TZNAME:PDT
DTSTART:20230312T100000
END:DAYLIGHT
BEGIN:STANDARD
TZOFFSETFROM:-0700
TZOFFSETTO:-0800
TZNAME:PST
DTSTART:20231105T090000
END:STANDARD
END:VTIMEZONE
BEGIN:VEVENT
DTSTART;VALUE=DATE:20230619
DTEND;VALUE=DATE:20230620
DTSTAMP:20260419T113646
CREATED:20230502T192617Z
LAST-MODIFIED:20250814T170044Z
UID:3633-1687132800-1687219199@solanoemployment.org
SUMMARY:Office Closed
DESCRIPTION:Our office will be closed June 19th in observance of the Juneteenth holiday.
URL:https://solanoemployment.org/event/office-closed-8/
ATTACH;FMTTYPE=image/png:https://solanoemployment.org/wp-content/uploads/2023/05/Holidays-5.png
END:VEVENT
BEGIN:VEVENT
DTSTART;TZID=America/Los_Angeles:20230627T150000
DTEND;TZID=America/Los_Angeles:20230627T170000
DTSTAMP:20260419T113646
CREATED:20230110T190858Z
LAST-MODIFIED:20230110T190858Z
UID:3296-1687878000-1687885200@solanoemployment.org
SUMMARY:Planning & Oversight Committee Meeting
DESCRIPTION:Meetings are scheduled to take place at: \nWorkforce Development Board of Solano County\n500 Chadbourne Road\, Suite A\nFairfield\, CA 94534 \nAny change of location will be posted on the agenda prior to the meeting. \nAgendas will be distributed and posted no less than 72 hours prior to the scheduled meeting. Meeting announcements and agendas can be found at: \nhttps://solanoemployment.org/board-of-directors. \nFor information regarding Planning & Oversight Committee meetings\, contact Tammy Gallentine\, Executive & Board Support Specialist\, at 707.863.3552 or by email at tgallentine@solanowdb.org.  If a reasonable accommodation is needed due to a disability\, contact Marion Aiken\, EO/AA/ADA Officer\, at 707.863.3594 or by email at maiken@solanowdb.org at least two weeks prior to the meeting date.
URL:https://solanoemployment.org/event/planning-oversight-committee-meeting-4/
END:VEVENT
END:VCALENDAR