BEGIN:VCALENDAR
VERSION:2.0
PRODID:-//WDB Solano - ECPv6.4.0.1//NONSGML v1.0//EN
CALSCALE:GREGORIAN
METHOD:PUBLISH
X-ORIGINAL-URL:https://solanoemployment.org
X-WR-CALDESC:Events for WDB Solano
REFRESH-INTERVAL;VALUE=DURATION:PT1H
X-Robots-Tag:noindex
X-PUBLISHED-TTL:PT1H
BEGIN:VTIMEZONE
TZID:America/Los_Angeles
BEGIN:DAYLIGHT
TZOFFSETFROM:-0800
TZOFFSETTO:-0700
TZNAME:PDT
DTSTART:20230312T100000
END:DAYLIGHT
BEGIN:STANDARD
TZOFFSETFROM:-0700
TZOFFSETTO:-0800
TZNAME:PST
DTSTART:20231105T090000
END:STANDARD
END:VTIMEZONE
BEGIN:VEVENT
DTSTART;TZID=America/Los_Angeles:20230403T070000
DTEND;TZID=America/Los_Angeles:20230403T153000
DTSTAMP:20260419T142842
CREATED:20230209T205358Z
LAST-MODIFIED:20230209T210713Z
UID:3388-1680505200-1680535800@solanoemployment.org
SUMMARY:Pre-Apprenticeship Training
DESCRIPTION:Are you between the ages of 18 and 24 and interested in a career in the construction trades? Get the training you need for the job you want in a Construction Pre-Apprenticeship Training Program from the Workforce Development Board of Solano County. This six-week\, no-cost program will be offered Monday-Friday\, 7 am to 3:30 pm\, April 3rd through May 19.\n\n\n\nTraining includes:\nFour Industry Certifications\nHAZWOPER\nConstruction Fundamentals\nConcrete Pouring Techniques\nTrades Math\nFitness Training\, & More\nDirect Placement Opportunties\n\n\nAdditional Requirements:\nBe 18-24 years of age\nRead\, speak & write basic English\nPass a drug test\nAuthorized to work in the U.S.\nValid Driver’s License\nHigh School Diploma or GED\nSpace is limited! Learn more and enroll by contacting Joyce Ugweje at 707-863-3533 or email jugweje@solanowdb.org.
URL:https://solanoemployment.org/event/3388/
ATTACH;FMTTYPE=image/png:https://solanoemployment.org/wp-content/uploads/2023/02/SAVE-THE-DATE-Pre-App-e1675976234427.png
END:VEVENT
BEGIN:VEVENT
DTSTART;TZID=America/Los_Angeles:20230404T093000
DTEND;TZID=America/Los_Angeles:20230404T113000
DTSTAMP:20260419T142842
CREATED:20230213T213656Z
LAST-MODIFIED:20230213T230007Z
UID:3432-1680600600-1680607800@solanoemployment.org
SUMMARY:Virtual Career Fair Bootcamp – Session 1
DESCRIPTION:VIRTUAL SESSION! \nAre you looking for a way to stand out from the crowd for the upcoming 2023 Norcal Career Fair? Want to impress your potential employer? Looking for advice and tips? Learn how to effectively highlight your skills on your resume and how to ace your next interview! This bootcamp will focus on the critical elements to resume writing\, tips and tricks to help you stand out with an employer\, basic strategies when interviewing\, the do’s and don’ts\, and using virtual platforms. \nThese bootcamps are available for any job seeker looking to have the edge when looking for your next employment opportunity. \nDon’t forget to attend Career Fair Bootcamp Session 2\, which outlines how to navigate a career fair and how to register for the 2023 Norcal Career Fair! \nAlso available are workshops dedicated to planning your job search\, interviewing\, resume basics\, and budgeting during job search. Check out the event calendar to register for these NO COST workshops. \nRegistration is optional. To register\, or for more information\, contact Rachelle at rfranko@solanowdb.org or call 707-863-3574. \nJoin the Virtual Session by clickling the link below: \nhttps://us02web.zoom.us/j/87019901393?pwd=WTFNMzFqd1JGQnJlOFFwaFhYMzlOZz09 \nMeeting ID: 870 1990 1393\nPasscode: 277576 \nDial by your location\n+1 669 900 6833 US (San Jose)\n+1 669 444 9171 US
URL:https://solanoemployment.org/event/virtual-career-fair-bootcamp-session-1-2/
ATTACH;FMTTYPE=image/png:https://solanoemployment.org/wp-content/uploads/2023/02/ImageCareerFairBootcamp.png
END:VEVENT
BEGIN:VEVENT
DTSTART;TZID=America/Los_Angeles:20230413T093000
DTEND;TZID=America/Los_Angeles:20230413T123000
DTSTAMP:20260419T142842
CREATED:20230309T004959Z
LAST-MODIFIED:20230309T005710Z
UID:3521-1681378200-1681389000@solanoemployment.org
SUMMARY:2023 NorCal Career Fair
DESCRIPTION:Over 60 regional employers with hundreds of available jobs will be waiting to meet job seekers like YOU at the 2023 NorCal Career Fair April 13 at Solano Community College in Fairfield.\n\n\nJoin us for this premier hiring event\, the largest of its kind in our area! Job seekers registering virtually have the opportunity to create a custom profile and upload a resume prior to the event.\n\n\nLearn more and register: https://solanoemployment.org/careerfair/
URL:https://solanoemployment.org/event/2023-norcal-career-fair/
ATTACH;FMTTYPE=image/png:https://solanoemployment.org/wp-content/uploads/2023/02/Career-Fair-Save-the-Date-e1678323037821.png
END:VEVENT
BEGIN:VEVENT
DTSTART;TZID=America/Los_Angeles:20230425T150000
DTEND;TZID=America/Los_Angeles:20230425T170000
DTSTAMP:20260419T142842
CREATED:20230110T190820Z
LAST-MODIFIED:20230110T190820Z
UID:3294-1682434800-1682442000@solanoemployment.org
SUMMARY:Planning & Oversight Committee Meeting
DESCRIPTION:Meetings are scheduled to take place at: \nWorkforce Development Board of Solano County\n500 Chadbourne Road\, Suite A\nFairfield\, CA 94534 \nAny change of location will be posted on the agenda prior to the meeting. \nAgendas will be distributed and posted no less than 72 hours prior to the scheduled meeting. Meeting announcements and agendas can be found at: \nhttps://solanoemployment.org/board-of-directors. \nFor information regarding Planning & Oversight Committee meetings\, contact Tammy Gallentine\, Executive & Board Support Specialist\, at 707.863.3552 or by email at tgallentine@solanowdb.org.  If a reasonable accommodation is needed due to a disability\, contact Marion Aiken\, EO/AA/ADA Officer\, at 707.863.3594 or by email at maiken@solanowdb.org at least two weeks prior to the meeting date.
URL:https://solanoemployment.org/event/planning-oversight-committee-meeting-3/
ATTACH;FMTTYPE=image/jpeg:https://solanoemployment.org/wp-content/uploads/2022/03/iStock-584579908-e1669855507940.jpg
END:VEVENT
END:VCALENDAR