BEGIN:VCALENDAR
VERSION:2.0
PRODID:-//WDB Solano - ECPv6.4.0.1//NONSGML v1.0//EN
CALSCALE:GREGORIAN
METHOD:PUBLISH
X-WR-CALNAME:WDB Solano
X-ORIGINAL-URL:https://solanoemployment.org
X-WR-CALDESC:Events for WDB Solano
REFRESH-INTERVAL;VALUE=DURATION:PT1H
X-Robots-Tag:noindex
X-PUBLISHED-TTL:PT1H
BEGIN:VTIMEZONE
TZID:America/Los_Angeles
BEGIN:DAYLIGHT
TZOFFSETFROM:-0800
TZOFFSETTO:-0700
TZNAME:PDT
DTSTART:20210314T100000
END:DAYLIGHT
BEGIN:STANDARD
TZOFFSETFROM:-0700
TZOFFSETTO:-0800
TZNAME:PST
DTSTART:20211107T090000
END:STANDARD
BEGIN:DAYLIGHT
TZOFFSETFROM:-0800
TZOFFSETTO:-0700
TZNAME:PDT
DTSTART:20220313T100000
END:DAYLIGHT
BEGIN:STANDARD
TZOFFSETFROM:-0700
TZOFFSETTO:-0800
TZNAME:PST
DTSTART:20221106T090000
END:STANDARD
END:VTIMEZONE
BEGIN:VEVENT
DTSTART;VALUE=DATE:20221226
DTEND;VALUE=DATE:20221227
DTSTAMP:20260420T000833
CREATED:20221208T224821Z
LAST-MODIFIED:20221208T224821Z
UID:3248-1672012800-1672099199@solanoemployment.org
SUMMARY:Office Closed
DESCRIPTION:Our office will be closed December 26th in observance of the Christmas holiday.
URL:https://solanoemployment.org/event/office-closed-3/
ATTACH;FMTTYPE=image/png:https://solanoemployment.org/wp-content/uploads/2022/12/Holidays.png
END:VEVENT
BEGIN:VEVENT
DTSTART;TZID=America/Los_Angeles:20221215T100000
DTEND;TZID=America/Los_Angeles:20221215T130000
DTSTAMP:20260420T000833
CREATED:20221208T214931Z
LAST-MODIFIED:20221208T214931Z
UID:3244-1671098400-1671109200@solanoemployment.org
SUMMARY:CHOC Energy Career Fair
DESCRIPTION:CHOC Energy is now hiring for HVAC Technicians\, Scheduleers\, and Weatherization Technicians! \nJoin us on Thursday\, December 15th from 10:00 a.m. to 1:00 p.m. to learn more and apply for one of these great opportunities! \nFor more information\, please call 707-514-4093 or email kthompson@chocenergy.org OR vfrank@solanowdb.org. \nCheck out the flyer here!
URL:https://solanoemployment.org/event/choc-energy-career-fair/
ATTACH;FMTTYPE=image/jpeg:https://solanoemployment.org/wp-content/uploads/2022/12/CHOCCareerFair.jpg
END:VEVENT
BEGIN:VEVENT
DTSTART;VALUE=DATE:20221111
DTEND;VALUE=DATE:20221112
DTSTAMP:20260420T000833
CREATED:20221020T194556Z
LAST-MODIFIED:20221020T201206Z
UID:2878-1668124800-1668211199@solanoemployment.org
SUMMARY:OFFICE CLOSED
DESCRIPTION:Our office will be closed in observance of the Veteran’s Day holiday.
URL:https://solanoemployment.org/event/office-closed/
ATTACH;FMTTYPE=image/png:https://solanoemployment.org/wp-content/uploads/2022/10/Veterans-Day.png
END:VEVENT
BEGIN:VEVENT
DTSTART;TZID=America/Los_Angeles:20221027T093000
DTEND;TZID=America/Los_Angeles:20221027T103000
DTSTAMP:20260420T000833
CREATED:20220113T173050Z
LAST-MODIFIED:20231004T203701Z
UID:2474-1666863000-1666866600@solanoemployment.org
SUMMARY:Interviewing Basics
DESCRIPTION:Need to brush up on those interviewing skills? Learn the 6 (six) things interviewers want to learn from a candidate and 10 (ten) strategies to help you prepare for answering the interviewer’s toughest questions. Find out how to respond to the 10 most commonly asked interview questions and 9 commonly asked illegal questions. Get tips and techniques to use during a behavioral interview. Be sure to download the Interviewing 101 handout before the virtual workshop. \nRegister today!
URL:https://solanoemployment.org/event/interviewing-basics/2022-10-27/
ATTACH;FMTTYPE=image/png:https://solanoemployment.org/wp-content/uploads/2022/03/InterviewBasics.png
END:VEVENT
BEGIN:VEVENT
DTSTART;TZID=America/Los_Angeles:20221019T093000
DTEND;TZID=America/Los_Angeles:20221019T103000
DTSTAMP:20260420T000833
CREATED:20220119T173046Z
LAST-MODIFIED:20231004T203355Z
UID:2488-1666171800-1666175400@solanoemployment.org
SUMMARY:Budgeting & the Unknown
DESCRIPTION:Budgeting while actively in job search is an important step to stretching your dollar and accomplishing your goals. During this workshop\, you will be able to take away varied concepts on managing your money\, reviewing your expenses\, and earning extra income. \nRegister today!
URL:https://solanoemployment.org/event/budgeting-the-unknown/2022-10-19/
ATTACH;FMTTYPE=image/png:https://solanoemployment.org/wp-content/uploads/2022/03/Budgeting.png
END:VEVENT
BEGIN:VEVENT
DTSTART;TZID=America/Los_Angeles:20221011T093000
DTEND;TZID=America/Los_Angeles:20221011T103000
DTSTAMP:20260420T000833
CREATED:20220125T173053Z
LAST-MODIFIED:20231004T203527Z
UID:2480-1665480600-1665484200@solanoemployment.org
SUMMARY:Planning Your Job Search
DESCRIPTION:Let’s face it. The job market has changed! This workshop will help you identify high-demand industries and in-demand jobs\, as well as share great tips on how to job search during the pandemic. Managing your personal life can become overwhelming at times but adding time to job search can really take a toll on your everyday tasks. Learn best practices for brainstorming\, preparing your job search schedule (complete with assigning due dates and priorities)\, tracking your progress\, self-delegation\, and caring for yourself in the midst of it all. \n Register today!
URL:https://solanoemployment.org/event/planning-your-job-search-2/2022-10-11/
ATTACH;FMTTYPE=image/png:https://solanoemployment.org/wp-content/uploads/2022/03/Planning-Job-Search.png
END:VEVENT
BEGIN:VEVENT
DTSTART;TZID=America/Los_Angeles:20220503T010000
DTEND;TZID=America/Los_Angeles:20220503T100000
DTSTAMP:20260420T000833
CREATED:20220121T190038Z
LAST-MODIFIED:20220503T212534Z
UID:2485-1651539600-1651572000@solanoemployment.org
SUMMARY:Mindfulness (Sound Bath)
DESCRIPTION:No registration is required!\nJoin via Zoom
URL:https://solanoemployment.org/event/mindfulness-sound-bath/
ATTACH;FMTTYPE=image/png:https://solanoemployment.org/wp-content/uploads/2022/05/v7So0B6PH7fN0wuW.png
END:VEVENT
BEGIN:VEVENT
DTSTART;TZID=America/Los_Angeles:20220319T060000
DTEND;TZID=America/Los_Angeles:20220319T080000
DTSTAMP:20260420T000833
CREATED:20220208T222258Z
LAST-MODIFIED:20220208T222258Z
UID:883-1647669600-1647676800@solanoemployment.org
SUMMARY:5th Avenue Playground Dig
DESCRIPTION:We are ready to break ground on the new playground that your generous dollars have fully funded! Come check out the new site\, meet the Healing Hearts staff\, and celebrate the first steps towards the first fully accessible playground in the heart of downtown.
URL:https://solanoemployment.org/event/5th-avenue-playground-dig/
LOCATION:Location 3\, 153 5th Avenue\, Pittsburgh\, PA 15222
ORGANIZER;CN="Antoinette Peterson":MAILTO:antoinette@healingheartstudios.org
END:VEVENT
BEGIN:VEVENT
DTSTART;TZID=America/Los_Angeles:20220211T070000
DTEND;TZID=America/Los_Angeles:20220211T100000
DTSTAMP:20260420T000833
CREATED:20220208T201755Z
LAST-MODIFIED:20220215T022737Z
UID:832-1644562800-1644573600@solanoemployment.org
SUMMARY:Fresh Air Fridays
DESCRIPTION:Join us for this weekly event that promotes healthy bodies and minds through safe\, supervised outdoor group activities for grades K-3\, 4-6\, and 7-10. All activities designed by licensed Child/Adolescent Therapists to encourage healthy socialization.
URL:https://solanoemployment.org/event/fresh-air-fridays/2022-02-11/
LOCATION:Location One\, 123 Blackburn Road\, Pittsburgh\, PA 15212
ORGANIZER;CN="Elizabeth Harris":MAILTO:liz@healingheartstudios.org
END:VEVENT
BEGIN:VEVENT
DTSTART;TZID=America/Los_Angeles:20220208T070000
DTEND;TZID=America/Los_Angeles:20220208T100000
DTSTAMP:20260420T000833
CREATED:20220208T205533Z
LAST-MODIFIED:20220215T022144Z
UID:872-1644303600-1644314400@solanoemployment.org
SUMMARY:Afterschool Artists
DESCRIPTION:Held every weekday at our 4000 square foot facility & 30 acre farm. Art therapy mentors guide the process of creative expression through dance\, writing\, drawing\, painting\, music\, poetry\, and papercrafts. New activities provided daily for children in grade-based groupings from K-3\, 4-6\, and 7-10. Additional trained volunteers on-hand to discuss meaning and significance of creative outputs with individual children as needed.
URL:https://solanoemployment.org/event/afterschool-artists/2022-02-08/
LOCATION:Location 2\, 123 Blackburn Road\, Pittsburgh\, PA 15212
ORGANIZER;CN="Georgina Brown":MAILTO:georgina@healingheartstudios.org
END:VEVENT
BEGIN:VEVENT
DTSTART;TZID=America/Los_Angeles:20220208T070000
DTEND;TZID=America/Los_Angeles:20220208T100000
DTSTAMP:20260420T000833
CREATED:20220208T202932Z
LAST-MODIFIED:20220208T202932Z
UID:846-1644303600-1644314400@solanoemployment.org
SUMMARY:Socialize SMART
DESCRIPTION:Activities especially designed for peer play between brothers and sisters that act to reverse roles and encourage collaboration\, creativity\, and enjoyment in a pressure-free environment.
URL:https://solanoemployment.org/event/socialize-smart/2022-02-08/
LOCATION:Location 2\, 123 Blackburn Road\, Pittsburgh\, PA 15212
ORGANIZER;CN="Gerald Robinson":MAILTO:gerald@healingheartstudios.org
END:VEVENT
BEGIN:VEVENT
DTSTART;TZID=America/Los_Angeles:20220129T020000
DTEND;TZID=America/Los_Angeles:20220129T060000
DTSTAMP:20260420T000833
CREATED:20220208T210025Z
LAST-MODIFIED:20220215T013423Z
UID:876-1643421600-1643436000@solanoemployment.org
SUMMARY:Screen-Free Saturdays
DESCRIPTION:Break free from phone and computer screens for an afternoon of outdoor play and healthy socialization. Created by popular demand from the success of our Fresh Air Fridays\, we continue the fun with rock painting\, chalk drawing\, bird watching\, and more. All activity materials as well as lunch provided. Free to all; donations encouraged to offset equipment costs.
URL:https://solanoemployment.org/event/screen-free-saturdays/2022-01-29/
LOCATION:Location One\, 123 Blackburn Road\, Pittsburgh\, PA 15212
ORGANIZER;CN="Rebekah Brooks":MAILTO:rebekah@healingheartstudios.org
END:VEVENT
BEGIN:VEVENT
DTSTART;VALUE=DATE:20220116
DTEND;VALUE=DATE:20220118
DTSTAMP:20260420T000833
CREATED:20220503T212450Z
LAST-MODIFIED:20220503T212606Z
UID:2484-1642348800-1642435199@solanoemployment.org
SUMMARY:Martin Luther King Jr. Holiday
DESCRIPTION:Office Closed
URL:https://solanoemployment.org/event/martin-luther-king-jr-holiday/
END:VEVENT
BEGIN:VEVENT
DTSTART;TZID=America/Los_Angeles:20220113T013000
DTEND;TZID=America/Los_Angeles:20220113T090000
DTSTAMP:20260420T000833
CREATED:20220503T212352Z
LAST-MODIFIED:20220503T212352Z
UID:2478-1642037400-1642064400@solanoemployment.org
SUMMARY:Interviewing Basics
DESCRIPTION:Need to brush up on those interviewing skills? Learn the 6 (six) things interviewers want to learn from a candidate and 10 (ten) strategies to help you prepare for answering the interviewer’s toughest questions. Find out how to respond to the 10 most commonly asked interview questions and 9 commonly asked illegal questions. Get tips and techniques to use during a behavioral interview. \nRegister today and download the handout for the workshop.
URL:https://solanoemployment.org/event/interviewing-basics-2/
ATTACH;FMTTYPE=image/jpeg:https://solanoemployment.org/wp-content/uploads/2022/05/DtMOPfBMc3SOH0OF.jpeg
END:VEVENT
BEGIN:VEVENT
DTSTART;TZID=America/Los_Angeles:20220112T040000
DTEND;TZID=America/Los_Angeles:20220112T060000
DTSTAMP:20260420T000833
CREATED:20220503T212019Z
LAST-MODIFIED:20220503T212019Z
UID:2471-1641960000-1641967200@solanoemployment.org
SUMMARY:Career Fair
DESCRIPTION:Vallejo Solano Community College Campus\n545 Columbus Parkway\nVallejo\, CA 94591 \nBusinesses interested in joining the career fair can contact Erica Shaw at eshaw@solanowdb.org
URL:https://solanoemployment.org/event/career-fair/
ATTACH;FMTTYPE=image/png:https://solanoemployment.org/wp-content/uploads/2022/05/M8ljM2rJbdnfm2o8.png
END:VEVENT
BEGIN:VEVENT
DTSTART;TZID=America/Los_Angeles:20220111T013000
DTEND;TZID=America/Los_Angeles:20220111T090000
DTSTAMP:20260420T000833
CREATED:20220503T211521Z
LAST-MODIFIED:20220503T211521Z
UID:2468-1641864600-1641891600@solanoemployment.org
SUMMARY:Planning Your Job Search
DESCRIPTION:Let’s face it. The job market has changed! This workshop will help you identify high-demand industries and in-demand jobs\, as well as share great tips on how to job search during the pandemic. Managing your personal life can become overwhelming at times but adding time to job search can really take a toll on your everyday tasks. Learn best practices for brainstorming\, preparing your job search schedule (complete with assigning due dates and priorities)\, tracking your progress\, self-delegation\, and caring for yourself in the midst of it all. \nRegister today!
URL:https://solanoemployment.org/event/planning-your-job-search/
ATTACH;FMTTYPE=image/jpeg:https://solanoemployment.org/wp-content/uploads/2022/05/P2C7ihHNp6JMDCC0.jpeg
END:VEVENT
BEGIN:VEVENT
DTSTART;TZID=America/Los_Angeles:20220107T030000
DTEND;TZID=America/Los_Angeles:20220107T090000
DTSTAMP:20260420T000833
CREATED:20220503T211217Z
LAST-MODIFIED:20220503T211217Z
UID:2465-1641524400-1641546000@solanoemployment.org
SUMMARY:Mindfulness (Meditation)
DESCRIPTION:No registration is required!\nJoin via Zoom
URL:https://solanoemployment.org/event/mindfulness-meditation/
ATTACH;FMTTYPE=image/png:https://solanoemployment.org/wp-content/uploads/2022/05/v7So0B6PH7fN0wuW.png
END:VEVENT
BEGIN:VEVENT
DTSTART;TZID=America/Los_Angeles:20211204T040000
DTEND;TZID=America/Los_Angeles:20211204T080000
DTSTAMP:20260420T000833
CREATED:20220208T221743Z
LAST-MODIFIED:20220215T014214Z
UID:880-1638590400-1638604800@solanoemployment.org
SUMMARY:Annual Art Exhibition
DESCRIPTION:Stroll our beautiful facility and see what our talented kids have created this year! This is a fundraiser event\, and tickets are $75 to include lunch. Table sponsorship also available; contact Georgina for details.
URL:https://solanoemployment.org/event/annual-art-exhibition/
LOCATION:Location 2\, 123 Blackburn Road\, Pittsburgh\, PA 15212
ORGANIZER;CN="Georgina Brown":MAILTO:georgina@healingheartstudios.org
END:VEVENT
END:VCALENDAR