BEGIN:VCALENDAR
VERSION:2.0
PRODID:-//WDB Solano - ECPv6.4.0.1//NONSGML v1.0//EN
CALSCALE:GREGORIAN
METHOD:PUBLISH
X-ORIGINAL-URL:https://solanoemployment.org
X-WR-CALDESC:Events for WDB Solano
REFRESH-INTERVAL;VALUE=DURATION:PT1H
X-Robots-Tag:noindex
X-PUBLISHED-TTL:PT1H
BEGIN:VTIMEZONE
TZID:America/Los_Angeles
BEGIN:DAYLIGHT
TZOFFSETFROM:-0800
TZOFFSETTO:-0700
TZNAME:PDT
DTSTART:20230312T100000
END:DAYLIGHT
BEGIN:STANDARD
TZOFFSETFROM:-0700
TZOFFSETTO:-0800
TZNAME:PST
DTSTART:20231105T090000
END:STANDARD
END:VTIMEZONE
BEGIN:VEVENT
DTSTART;TZID=America/Los_Angeles:20231115T110000
DTEND;TZID=America/Los_Angeles:20231115T113000
DTSTAMP:20260419T061252
CREATED:20231018T182557Z
LAST-MODIFIED:20231114T202252Z
UID:4174-1700046000-1700047800@solanoemployment.org
SUMMARY:Mindfulness (Pre-Recorded)
DESCRIPTION:Today’s Mindfulness session is pre-recorded. \nEnjoy the pre-recorded video here. \nJoin us for a moment of peace and tranquility. Clear your mind. Relax. \nWhat is mindfulness? \nBeing present in the here and now. In this class we close our eyes\, inhale and exhale. That’s all! There is relaxing music and an oasis from our busy everyday lives. \nMindfulness is offered both virtually and in-person. Please check the calendar for live events. \nFor more information\, email us at info@solanowdb.org
URL:https://solanoemployment.org/event/mindfulness-2023-11-15/
ATTACH;FMTTYPE=image/png:https://solanoemployment.org/wp-content/uploads/2023/10/Mindfulness.png
END:VEVENT
BEGIN:VEVENT
DTSTART;TZID=America/Los_Angeles:20231115T150000
DTEND;TZID=America/Los_Angeles:20231115T160000
DTSTAMP:20260419T061252
CREATED:20231016T194036Z
LAST-MODIFIED:20231219T201902Z
UID:4149-1700060400-1700064000@solanoemployment.org
SUMMARY:Planning Your Job Search Workshop
DESCRIPTION:Let’s face it. The job market has changed! This workshop will help you identify high-demand industries and in-demand jobs\, as well as share great tips on how to job search during the pandemic. Managing your personal life can become overwhelming at times but adding time to job search can really take a toll on your everyday tasks. Learn best practices for brainstorming\, preparing your job search schedule (complete with assigning due dates and priorities)\, tracking your progress\, self-delegation\, and caring for yourself in the midst of it all. \nThis workshop is offered both virtually and in-person. Those interested in attending in person may join us at our Fairfield location at: \nWorkforce Development Board of Solano County\n500 Chadbourne Road\, Suite A\nFairfield\, CA 94534 \nJoin Virtually Here!
URL:https://solanoemployment.org/event/planning-your-job-search-workshop-2023-11-15/2023-11-15/
ATTACH;FMTTYPE=image/png:https://solanoemployment.org/wp-content/uploads/2022/03/JobSearchHybrid.png
END:VEVENT
END:VCALENDAR