BEGIN:VCALENDAR
VERSION:2.0
PRODID:-//WDB Solano - ECPv6.4.0.1//NONSGML v1.0//EN
CALSCALE:GREGORIAN
METHOD:PUBLISH
X-ORIGINAL-URL:https://solanoemployment.org
X-WR-CALDESC:Events for WDB Solano
REFRESH-INTERVAL;VALUE=DURATION:PT1H
X-Robots-Tag:noindex
X-PUBLISHED-TTL:PT1H
BEGIN:VTIMEZONE
TZID:America/Los_Angeles
BEGIN:DAYLIGHT
TZOFFSETFROM:-0800
TZOFFSETTO:-0700
TZNAME:PDT
DTSTART:20230312T100000
END:DAYLIGHT
BEGIN:STANDARD
TZOFFSETFROM:-0700
TZOFFSETTO:-0800
TZNAME:PST
DTSTART:20231105T090000
END:STANDARD
END:VTIMEZONE
BEGIN:VEVENT
DTSTART;TZID=America/Los_Angeles:20231108T110000
DTEND;TZID=America/Los_Angeles:20231108T113000
DTSTAMP:20260419T060405
CREATED:20231018T182557Z
LAST-MODIFIED:20231229T011429Z
UID:4171-1699441200-1699443000@solanoemployment.org
SUMMARY:Mindfulness
DESCRIPTION:Join us for a moment of peace and tranquility. Clear your mind. Relax. \nWhat is mindfulness? \nBeing present in the here and now. In this class we close our eyes\, inhale and exhale. That’s all! There is relaxing music and an oasis from our busy everyday lives. \nMindfulness is offered both virtually and in-person. Those interested in attending in person may join us at our Fairfield location at: \nWorkforce Development Board of Solano County\n500 Chadbourne Road\, Suite A\nFairfield\, CA 94534 \nJoin Virtually Here! via Zoom. \nMeeting ID: 823 0871 9419\nPasscode: CU0206 \nFor more information\, email us at info@solanowdb.org
URL:https://solanoemployment.org/event/mindfulness/2023-11-08/
ATTACH;FMTTYPE=image/png:https://solanoemployment.org/wp-content/uploads/2023/10/Mindfulness.png
END:VEVENT
END:VCALENDAR