BEGIN:VCALENDAR
VERSION:2.0
PRODID:-//WDB Solano - ECPv6.4.0.1//NONSGML v1.0//EN
CALSCALE:GREGORIAN
METHOD:PUBLISH
X-ORIGINAL-URL:https://solanoemployment.org
X-WR-CALDESC:Events for WDB Solano
REFRESH-INTERVAL;VALUE=DURATION:PT1H
X-Robots-Tag:noindex
X-PUBLISHED-TTL:PT1H
BEGIN:VTIMEZONE
TZID:America/Los_Angeles
BEGIN:DAYLIGHT
TZOFFSETFROM:-0800
TZOFFSETTO:-0700
TZNAME:PDT
DTSTART:20230312T100000
END:DAYLIGHT
BEGIN:STANDARD
TZOFFSETFROM:-0700
TZOFFSETTO:-0800
TZNAME:PST
DTSTART:20231105T090000
END:STANDARD
END:VTIMEZONE
BEGIN:VEVENT
DTSTART;TZID=America/Los_Angeles:20231101T150000
DTEND;TZID=America/Los_Angeles:20231101T170000
DTSTAMP:20260419T061254
CREATED:20231017T191543Z
LAST-MODIFIED:20231017T193213Z
UID:4155-1698850800-1698858000@solanoemployment.org
SUMMARY:Manufacturing Job Fair (Virtual)
DESCRIPTION:Are you looking for a skilled trades or entry-level job in Manufacturing in the Bay Area? If so\, please sign up for our (virtual) Job Fair. \nWHEN: NOVEMBER 1\, 2023 (Wednesday)\, 3 pm – 5 pm \nWHERE: Anywhere you are! It’s virtual. \nWHO: Anyone looking for a skilled trades or entry-level job in manufacturing – CAD\, machinist\, technicians (electronic\, maintenance\, QC)\, welder\, warehousing\, production tech\, assembler\, driver\, etc. \nCOMPANIES ATTENDING: Various employers with employment opportunities will be in attendance. \nSPONSORS: Bay Area Community Colleges\, AMBayArea\, Workforce Development organizations \nREGISTER TODAY to get updates on companies attending and how to sign-on to the online platform. \nView the flyer here for more details!
URL:https://solanoemployment.org/event/manufacturing-job-fair-virtual/
ATTACH;FMTTYPE=image/png:https://solanoemployment.org/wp-content/uploads/2022/03/GenericJobFair.png
END:VEVENT
END:VCALENDAR