BEGIN:VCALENDAR
VERSION:2.0
PRODID:-//WDB Solano - ECPv6.4.0.1//NONSGML v1.0//EN
CALSCALE:GREGORIAN
METHOD:PUBLISH
X-ORIGINAL-URL:https://solanoemployment.org
X-WR-CALDESC:Events for WDB Solano
REFRESH-INTERVAL;VALUE=DURATION:PT1H
X-Robots-Tag:noindex
X-PUBLISHED-TTL:PT1H
BEGIN:VTIMEZONE
TZID:America/Los_Angeles
BEGIN:DAYLIGHT
TZOFFSETFROM:-0800
TZOFFSETTO:-0700
TZNAME:PDT
DTSTART:20230312T100000
END:DAYLIGHT
BEGIN:STANDARD
TZOFFSETFROM:-0700
TZOFFSETTO:-0800
TZNAME:PST
DTSTART:20231105T090000
END:STANDARD
END:VTIMEZONE
BEGIN:VEVENT
DTSTART;TZID=America/Los_Angeles:20231024T100000
DTEND;TZID=America/Los_Angeles:20231024T130000
DTSTAMP:20260419T073339
CREATED:20231017T193912Z
LAST-MODIFIED:20231018T224715Z
UID:4160-1698141600-1698152400@solanoemployment.org
SUMMARY:Vallejo Career Fair
DESCRIPTION:The Solano WDB and Solano Community College are partnering to offer an in-person Career Fair at Solano Community College’s Vallejo Campus. \nWHEN: October 24\, 2023 from 10:00 a.m. to 1:00 p.m. \nWHERE: Solano Community College\, 545 Columbus Parkway\, Vallejo\, CA 94591 \nPre-registration is encouraged! \nIf you are a business that would like to participate in the Career Fair\, please contact Jesus Becerra at jbecerra@solanowdb.org. \nFor more details and to pre-register\, CLICK HERE! \nAttending Employers: \n\n(USPS) United States Postal Service\nRecology\nBART\nKettlePOP\nDepartment of Homeland Security\nAmazon\nSF Bay Goodwill\nArchway Recovery Services\nMichael’s Transportation Service Inc.\nMistras Group\, Inc.\nThe Meritage Resort & Spa\nApex Care\nBay Hauling\nCalifornia Department of Corrections and Rehabilitation\nCity of Vallejo Police Department\n\n…….more to be added
URL:https://solanoemployment.org/event/vallejo-career-fair/
ATTACH;FMTTYPE=image/png:https://solanoemployment.org/wp-content/uploads/2022/03/VJOCFImage.png
END:VEVENT
BEGIN:VEVENT
DTSTART;TZID=America/Los_Angeles:20231024T140000
DTEND;TZID=America/Los_Angeles:20231024T150000
DTSTAMP:20260419T073339
CREATED:20230929T171121Z
LAST-MODIFIED:20231016T191635Z
UID:3960-1698156000-1698159600@solanoemployment.org
SUMMARY:Digital Soft Skills Virtual Workshop
DESCRIPTION:Digital Soft Skills worksop is now available virtually and in-person! \nThis workshop is geared towards assisting individuals or groups who wish to seek employment\, leads\, or obtain virtual job searching tips. \nIn this workshop you will receive tips on: \n\nWorkplace Professionalism\nMock Virtual Interviews\nVirtual Interview Platforms\nDigital Footprints\nTechno-Fear Factors\nFising in your O*NET\nS.M.A.R.T. Employment Goals\n\nJoin workshop will be offered virtually only via Zoom on October 24th. \nJOIN THE WORKSHOP VIRTUALLY HERE!
URL:https://solanoemployment.org/event/digital-soft-skills-2023-10-24/
ATTACH;FMTTYPE=image/png:https://solanoemployment.org/wp-content/uploads/2022/03/Digital-Soft-Skills.png
END:VEVENT
BEGIN:VEVENT
DTSTART;TZID=America/Los_Angeles:20231024T150000
DTEND;TZID=America/Los_Angeles:20231024T170000
DTSTAMP:20260419T073339
CREATED:20230110T191020Z
LAST-MODIFIED:20231018T174453Z
UID:3300-1698159600-1698166800@solanoemployment.org
SUMMARY:CANCELLED: Planning & Oversight Committee Meeting
DESCRIPTION:THIS MEETING HAS BEEN CANCELLED. \n  \nMeetings are scheduled to take place at: \nWorkforce Development Board of Solano County\n500 Chadbourne Road\, Suite A\nFairfield\, CA 94534 \nAny change of location will be posted on the agenda prior to the meeting. \nAgendas will be distributed and posted no less than 72 hours prior to the scheduled meeting. Meeting announcements and agendas can be found at: \nhttps://solanoemployment.org/board-of-directors. \nFor information regarding Planning & Oversight Committee meetings\, contact Tammy Gallentine\, Executive & Board Support Specialist\, at 707.863.3552 or by email at tgallentine@solanowdb.org.  If a reasonable accommodation is needed due to a disability\, contact Marion Aiken\, EO/AA/ADA Officer\, at 707.863.3594 or by email at maiken@solanowdb.org at least two weeks prior to the meeting date.
URL:https://solanoemployment.org/event/planning-oversight-committee-meeting-6/
ATTACH;FMTTYPE=image/jpeg:https://solanoemployment.org/wp-content/uploads/2022/03/iStock-584579908-e1669855507940.jpg
END:VEVENT
BEGIN:VEVENT
DTSTART;TZID=America/Los_Angeles:20231024T153000
DTEND;TZID=America/Los_Angeles:20231024T161500
DTSTAMP:20260419T073339
CREATED:20231016T191014Z
LAST-MODIFIED:20231016T191214Z
UID:4121-1698161400-1698164100@solanoemployment.org
SUMMARY:Interviewing Basics Virtual Workshop
DESCRIPTION:Need to brush up on those interviewing skills? Learn the 6 (six) things interviewers want to learn from a candidate and 10 (ten) strategies to help you prepare for answering the interviewer’s toughest questions. Find out how to respond to the 10 most commonly asked interview questions and 9 commonly asked illegal questions. Get tips and techniques to use during a behavioral interview. Be sure to download the Interviewing 101 handout before the workshop. \nThis workshop is being offered virtually only on October 24th. \nJoin Virtually Here!
URL:https://solanoemployment.org/event/interviewing-basics-workshop-2023-10-24/
ATTACH;FMTTYPE=image/png:https://solanoemployment.org/wp-content/uploads/2022/03/IntvBasicsHybrid.png
END:VEVENT
END:VCALENDAR