BEGIN:VCALENDAR
VERSION:2.0
PRODID:-//WDB Solano - ECPv6.4.0.1//NONSGML v1.0//EN
CALSCALE:GREGORIAN
METHOD:PUBLISH
X-ORIGINAL-URL:https://solanoemployment.org
X-WR-CALDESC:Events for WDB Solano
REFRESH-INTERVAL;VALUE=DURATION:PT1H
X-Robots-Tag:noindex
X-PUBLISHED-TTL:PT1H
BEGIN:VTIMEZONE
TZID:America/Los_Angeles
BEGIN:DAYLIGHT
TZOFFSETFROM:-0800
TZOFFSETTO:-0700
TZNAME:PDT
DTSTART:20230312T100000
END:DAYLIGHT
BEGIN:STANDARD
TZOFFSETFROM:-0700
TZOFFSETTO:-0800
TZNAME:PST
DTSTART:20231105T090000
END:STANDARD
END:VTIMEZONE
BEGIN:VEVENT
DTSTART;TZID=America/Los_Angeles:20231017T090000
DTEND;TZID=America/Los_Angeles:20231017T094500
DTSTAMP:20260419T073340
CREATED:20231016T191014Z
LAST-MODIFIED:20231219T202953Z
UID:4119-1697533200-1697535900@solanoemployment.org
SUMMARY:Interviewing Basics Workshop
DESCRIPTION:Need to brush up on those interviewing skills? Learn the 6 (six) things interviewers want to learn from a candidate and 10 (ten) strategies to help you prepare for answering the interviewer’s toughest questions. Find out how to respond to the 10 most commonly asked interview questions and 9 commonly asked illegal questions. Get tips and techniques to use during a behavioral interview. Be sure to download the Interviewing 101 handout before the workshop. \nThis workshop is offered both virtually and in-person. Those interested in attending in person may join us at our Fairfield location at: \nWorkforce Development Board of Solano County\n500 Chadbourne Road\, Suite A\nFairfield\, CA 94534 \nJoin Virtually Here!
URL:https://solanoemployment.org/event/interviewing-basics-workshop/2023-10-17/
ATTACH;FMTTYPE=image/png:https://solanoemployment.org/wp-content/uploads/2022/03/IntvBasicsHybrid.png
END:VEVENT
END:VCALENDAR