BEGIN:VCALENDAR
VERSION:2.0
PRODID:-//WDB Solano - ECPv6.4.0.1//NONSGML v1.0//EN
CALSCALE:GREGORIAN
METHOD:PUBLISH
X-ORIGINAL-URL:https://solanoemployment.org
X-WR-CALDESC:Events for WDB Solano
REFRESH-INTERVAL;VALUE=DURATION:PT1H
X-Robots-Tag:noindex
X-PUBLISHED-TTL:PT1H
BEGIN:VTIMEZONE
TZID:America/Los_Angeles
BEGIN:DAYLIGHT
TZOFFSETFROM:-0800
TZOFFSETTO:-0700
TZNAME:PDT
DTSTART:20230312T100000
END:DAYLIGHT
BEGIN:STANDARD
TZOFFSETFROM:-0700
TZOFFSETTO:-0800
TZNAME:PST
DTSTART:20231105T090000
END:STANDARD
END:VTIMEZONE
BEGIN:VEVENT
DTSTART;TZID=America/Los_Angeles:20231006T143000
DTEND;TZID=America/Los_Angeles:20231006T153000
DTSTAMP:20260419T073339
CREATED:20231005T164436Z
LAST-MODIFIED:20231005T181820Z
UID:3990-1696602600-1696606200@solanoemployment.org
SUMMARY:Typing Test/Certification
DESCRIPTION:Do you need to take a typing test? Do you need a certificate? The Workforce Development Board of Solano County offers FREE typing tests and certificates at the Fairfield location. Typing tests are available every Monday at 10:30 a.m. and Friday at 2:30 p.m. No appointment is necessary. \nPlease arrive early as late arrivals will not be admitted. \nFor more information\, please call 707-863-3500 or email info@solanowdb.org. \n 
URL:https://solanoemployment.org/event/typing-test-certification/2023-10-06/
ATTACH;FMTTYPE=image/png:https://solanoemployment.org/wp-content/uploads/2022/03/Typing-Test-Cert.png
END:VEVENT
END:VCALENDAR