BEGIN:VCALENDAR
VERSION:2.0
PRODID:-//WDB Solano - ECPv6.4.0.1//NONSGML v1.0//EN
CALSCALE:GREGORIAN
METHOD:PUBLISH
X-WR-CALNAME:WDB Solano
X-ORIGINAL-URL:https://solanoemployment.org
X-WR-CALDESC:Events for WDB Solano
REFRESH-INTERVAL;VALUE=DURATION:PT1H
X-Robots-Tag:noindex
X-PUBLISHED-TTL:PT1H
BEGIN:VTIMEZONE
TZID:America/Los_Angeles
BEGIN:DAYLIGHT
TZOFFSETFROM:-0800
TZOFFSETTO:-0700
TZNAME:PDT
DTSTART:20230312T100000
END:DAYLIGHT
BEGIN:STANDARD
TZOFFSETFROM:-0700
TZOFFSETTO:-0800
TZNAME:PST
DTSTART:20231105T090000
END:STANDARD
END:VTIMEZONE
BEGIN:VEVENT
DTSTART;TZID=America/Los_Angeles:20230919T110000
DTEND;TZID=America/Los_Angeles:20230919T123000
DTSTAMP:20260419T085628
CREATED:20230810T201358Z
LAST-MODIFIED:20230810T202555Z
UID:3827-1695121200-1695126600@solanoemployment.org
SUMMARY:Designing an Employee Retention Culture Seminar
DESCRIPTION:Designing an Employee Retention Culture Sponsored by the Workforce Development Board of Solano County\nDescription\nEmployees are increasingly becoming disengaged in our new economy. Remote & hybrid work has changed the way employees interact with each other and their managers. \nThrough different engagement strategies\, you can transform your organization into a high employee retention culture – one that develops employee strengths to increase productivity leading to higher job satisfaction. Hear how to set clear work objectives and expectations for onsite\, remote or hybrid work so that your employees can stay engaged\, motivated and perform at high levels for your organization. \nThis seminar will be held virtually. \nThis complimentary training is sponsored by the Workforce Development Board of Solano County for Solano County employers. \nApproved for 1.5 HRCI Credits. The use of this seal confirms that this activity has met HR Certification Institute’s (HRCI) criteria for recertification pre-approval. \nApproved for 1.5 SHRM Credits. CEA is recognized by SHRM to offer Professional Development Credits (PDCs) for the SHRM-CPSM or SHRM-SCP. For more information about certification or recertification\, please visit shrmcertification.org. \nREGISTER TODAY!!
URL:https://solanoemployment.org/event/designing-an-employee-retention-culture/
ATTACH;FMTTYPE=image/jpeg:https://solanoemployment.org/wp-content/uploads/2023/08/3.jpg
END:VEVENT
END:VCALENDAR