BEGIN:VCALENDAR
VERSION:2.0
PRODID:-//WDB Solano - ECPv6.4.0.1//NONSGML v1.0//EN
CALSCALE:GREGORIAN
METHOD:PUBLISH
X-WR-CALNAME:WDB Solano
X-ORIGINAL-URL:https://solanoemployment.org
X-WR-CALDESC:Events for WDB Solano
REFRESH-INTERVAL;VALUE=DURATION:PT1H
X-Robots-Tag:noindex
X-PUBLISHED-TTL:PT1H
BEGIN:VTIMEZONE
TZID:America/Los_Angeles
BEGIN:DAYLIGHT
TZOFFSETFROM:-0800
TZOFFSETTO:-0700
TZNAME:PDT
DTSTART:20230312T100000
END:DAYLIGHT
BEGIN:STANDARD
TZOFFSETFROM:-0700
TZOFFSETTO:-0800
TZNAME:PST
DTSTART:20231105T090000
END:STANDARD
END:VTIMEZONE
BEGIN:VEVENT
DTSTART;TZID=America/Los_Angeles:20230830T120000
DTEND;TZID=America/Los_Angeles:20230830T133000
DTSTAMP:20260419T085609
CREATED:20230810T195554Z
LAST-MODIFIED:20230810T202525Z
UID:3817-1693396800-1693402200@solanoemployment.org
SUMMARY:Hiring Right & Effective OnBoarding Seminar
DESCRIPTION:Hiring Right & Effective Onboarding Sponsored by Workforce Development Board of Solano County\nDescription\nIn this seminar\, we will review how to effectively hire great talent without breaking the bank.  We’ll cover all of the steps you need to follow to hire right the first time and ensure that your onboarding process sets your employees up for long-term success. \n\nGuidelines for developing quality job ads and job descriptions\nCost-effective ideas for sourcing candidates\nKnow who you need to hire and ensure proper employment classification\nDiscover where applicants are and what to pay them\nDevelop legally defensible behavioral interview questions targeting proven performer’s skills\nReview compliant hiring practices – ban the box\, salary history limitations\, and more\nSee the critical hiring steps between accepting an application to the 1st day of work\nUncover hidden tips\, tools\, and tricks for new hire success\n\nBusiness owners not located in Solano County are welcome and are required to meet at least one of the basic ARPA eligibility guidelines. By registering for this event\, you self-attest at least one of the below guidelines are true for your business: \n\nMy business is located in Solano County.\nMy business can demonstrate economic harm due to the pandemic with a 20% drop in annual sales between 2019 and 2020.\nMy business is a microbusiness with 10 or fewer employees.\nMy business received Paycheck Protection Program (PPP) funds OR a small business grant based on economic hardship as a result of COVID-19 and the resulting economic impacts.\nMy business was required to be closed for more than three consecutive months per California Public Health Guidelines.\n\nThis seminar will be held virtually. \nThis complimentary training is sponsored by the Workforce Development Board of Solano County for Solano County employers. \nApproved for 1.5 HRCI Credits. The use of this seal confirms that this activity has met HR Certification Institute’s (HRCI) criteria for recertification pre-approval. \nApproved for 1.5 SHRM Credits. CEA is recognized by SHRM to offer Professional Development Credits (PDCs) for the SHRM-CPSM or SHRM-SCP. For more information about certification or recertification\, please visit shrmcertification.org. \nREGISTER TODAY!!
URL:https://solanoemployment.org/event/hiring-right-effective-onboarding/
ATTACH;FMTTYPE=image/jpeg:https://solanoemployment.org/wp-content/uploads/2023/08/1.jpg
END:VEVENT
END:VCALENDAR