BEGIN:VCALENDAR
VERSION:2.0
PRODID:-//WDB Solano - ECPv6.4.0.1//NONSGML v1.0//EN
CALSCALE:GREGORIAN
METHOD:PUBLISH
X-ORIGINAL-URL:https://solanoemployment.org
X-WR-CALDESC:Events for WDB Solano
REFRESH-INTERVAL;VALUE=DURATION:PT1H
X-Robots-Tag:noindex
X-PUBLISHED-TTL:PT1H
BEGIN:VTIMEZONE
TZID:America/Los_Angeles
BEGIN:DAYLIGHT
TZOFFSETFROM:-0800
TZOFFSETTO:-0700
TZNAME:PDT
DTSTART:20230312T100000
END:DAYLIGHT
BEGIN:STANDARD
TZOFFSETFROM:-0700
TZOFFSETTO:-0800
TZNAME:PST
DTSTART:20231105T090000
END:STANDARD
END:VTIMEZONE
BEGIN:VEVENT
DTSTART;VALUE=DATE:20230704
DTEND;VALUE=DATE:20230705
DTSTAMP:20260419T113648
CREATED:20230724T172716Z
LAST-MODIFIED:20230724T172751Z
UID:3785-1688428800-1688515199@solanoemployment.org
SUMMARY:Office Closed
DESCRIPTION:Our office will be closed July 4th in observance of the Independence Day holiday.
URL:https://solanoemployment.org/event/office-closed-10/
ATTACH;FMTTYPE=image/png:https://solanoemployment.org/wp-content/uploads/2023/07/IndependenceDay2023.png
END:VEVENT
END:VCALENDAR