BEGIN:VCALENDAR
VERSION:2.0
PRODID:-//WDB Solano - ECPv6.4.0.1//NONSGML v1.0//EN
CALSCALE:GREGORIAN
METHOD:PUBLISH
X-ORIGINAL-URL:https://solanoemployment.org
X-WR-CALDESC:Events for WDB Solano
REFRESH-INTERVAL;VALUE=DURATION:PT1H
X-Robots-Tag:noindex
X-PUBLISHED-TTL:PT1H
BEGIN:VTIMEZONE
TZID:America/Los_Angeles
BEGIN:DAYLIGHT
TZOFFSETFROM:-0800
TZOFFSETTO:-0700
TZNAME:PDT
DTSTART:20230312T100000
END:DAYLIGHT
BEGIN:STANDARD
TZOFFSETFROM:-0700
TZOFFSETTO:-0800
TZNAME:PST
DTSTART:20231105T090000
END:STANDARD
END:VTIMEZONE
BEGIN:VEVENT
DTSTART;TZID=America/Los_Angeles:20230413T093000
DTEND;TZID=America/Los_Angeles:20230413T123000
DTSTAMP:20260419T155630
CREATED:20230309T004959Z
LAST-MODIFIED:20230309T005710Z
UID:3521-1681378200-1681389000@solanoemployment.org
SUMMARY:2023 NorCal Career Fair
DESCRIPTION:Over 60 regional employers with hundreds of available jobs will be waiting to meet job seekers like YOU at the 2023 NorCal Career Fair April 13 at Solano Community College in Fairfield.\n\n\nJoin us for this premier hiring event\, the largest of its kind in our area! Job seekers registering virtually have the opportunity to create a custom profile and upload a resume prior to the event.\n\n\nLearn more and register: https://solanoemployment.org/careerfair/
URL:https://solanoemployment.org/event/2023-norcal-career-fair/
ATTACH;FMTTYPE=image/png:https://solanoemployment.org/wp-content/uploads/2023/02/Career-Fair-Save-the-Date-e1678323037821.png
END:VEVENT
END:VCALENDAR