BEGIN:VCALENDAR
VERSION:2.0
PRODID:-//WDB Solano - ECPv6.4.0.1//NONSGML v1.0//EN
CALSCALE:GREGORIAN
METHOD:PUBLISH
X-ORIGINAL-URL:https://solanoemployment.org
X-WR-CALDESC:Events for WDB Solano
REFRESH-INTERVAL;VALUE=DURATION:PT1H
X-Robots-Tag:noindex
X-PUBLISHED-TTL:PT1H
BEGIN:VTIMEZONE
TZID:America/Los_Angeles
BEGIN:DAYLIGHT
TZOFFSETFROM:-0800
TZOFFSETTO:-0700
TZNAME:PDT
DTSTART:20230312T100000
END:DAYLIGHT
BEGIN:STANDARD
TZOFFSETFROM:-0700
TZOFFSETTO:-0800
TZNAME:PST
DTSTART:20231105T090000
END:STANDARD
END:VTIMEZONE
BEGIN:VEVENT
DTSTART;TZID=America/Los_Angeles:20230307T093000
DTEND;TZID=America/Los_Angeles:20230307T113000
DTSTAMP:20260419T172221
CREATED:20230213T211447Z
LAST-MODIFIED:20230227T175512Z
UID:3413-1678181400-1678188600@solanoemployment.org
SUMMARY:Career Fair Bootcamp - Session 1
DESCRIPTION:Are you looking for a way to stand out from the crowd for the upcoming 2023 Norcal Career Fair? Want to impress your potential employer? Looking for advice and tips? Learn how to effectively highlight your skills on your resume and how to ace your next interview! This bootcamp will focus on the critical elements to resume writing\, tips and tricks to help you stand out with an employer\, basic strategies when interviewing\, the do’s and don’ts\, and using virtual platforms. \nThese bootcamps are available for any job seeker looking to have the edge when looking for your next employment opportunity. \nDon’t forget to attend Career Fair Bootcamp Session 2\, which outlines how to navigate a career fair and how to register for the 2023 Norcal Career Fair! \nAlso available are workshops dedicated to planning your job search\, interviewing\, resume basics\, and budgeting during job search. Check out the event calendar to register for these NO COST workshops. \nWalk-ins welcome! Registration is optional. To register\, or for more information\, contact Rachelle at rfranko@solanowdb.org or call 707-863-3574. \nCan’t attend in person? This bootcamp is being offered virtually! Visit the April 4th event for the direct link to join.
URL:https://solanoemployment.org/event/career-fair-bootcamp-session-1/2023-03-07/
ATTACH;FMTTYPE=image/png:https://solanoemployment.org/wp-content/uploads/2023/02/ImageCareerFairBootcamp.png
END:VEVENT
END:VCALENDAR