BEGIN:VCALENDAR
VERSION:2.0
PRODID:-//WDB Solano - ECPv6.4.0.1//NONSGML v1.0//EN
CALSCALE:GREGORIAN
METHOD:PUBLISH
X-ORIGINAL-URL:https://solanoemployment.org
X-WR-CALDESC:Events for WDB Solano
REFRESH-INTERVAL;VALUE=DURATION:PT1H
X-Robots-Tag:noindex
X-PUBLISHED-TTL:PT1H
BEGIN:VTIMEZONE
TZID:America/Los_Angeles
BEGIN:DAYLIGHT
TZOFFSETFROM:-0800
TZOFFSETTO:-0700
TZNAME:PDT
DTSTART:20220313T100000
END:DAYLIGHT
BEGIN:STANDARD
TZOFFSETFROM:-0700
TZOFFSETTO:-0800
TZNAME:PST
DTSTART:20221106T090000
END:STANDARD
END:VTIMEZONE
BEGIN:VEVENT
DTSTART;TZID=America/Los_Angeles:20221019T093000
DTEND;TZID=America/Los_Angeles:20221019T103000
DTSTAMP:20260420T011921
CREATED:20220119T173046Z
LAST-MODIFIED:20231004T203355Z
UID:2488-1666171800-1666175400@solanoemployment.org
SUMMARY:Budgeting & the Unknown
DESCRIPTION:Budgeting while actively in job search is an important step to stretching your dollar and accomplishing your goals. During this workshop\, you will be able to take away varied concepts on managing your money\, reviewing your expenses\, and earning extra income. \nRegister today!
URL:https://solanoemployment.org/event/budgeting-the-unknown/2022-10-19/
ATTACH;FMTTYPE=image/png:https://solanoemployment.org/wp-content/uploads/2022/03/Budgeting.png
END:VEVENT
END:VCALENDAR